BEGIN:VCALENDAR
VERSION:2.0
PRODID:-//Centre de yoga Surya, Metz - ECPv5.7.1//NONSGML v1.0//EN
CALSCALE:GREGORIAN
METHOD:PUBLISH
X-WR-CALNAME:Centre de yoga Surya, Metz
X-ORIGINAL-URL:https://yoga-metz.com
X-WR-CALDESC:évènements pour Centre de yoga Surya, Metz
BEGIN:VTIMEZONE
TZID:Europe/Paris
BEGIN:DAYLIGHT
TZOFFSETFROM:+0100
TZOFFSETTO:+0200
TZNAME:CEST
DTSTART:20200329T010000
END:DAYLIGHT
BEGIN:STANDARD
TZOFFSETFROM:+0200
TZOFFSETTO:+0100
TZNAME:CET
DTSTART:20201025T010000
END:STANDARD
END:VTIMEZONE
BEGIN:VEVENT
DTSTART;TZID=Europe/Paris:20200828T080000
DTEND;TZID=Europe/Paris:20200828T170000
DTSTAMP:20260421T161812
CREATED:20200828T134239Z
LAST-MODIFIED:20200828T135435Z
UID:7846-1598601600-1598634000@yoga-metz.com
SUMMARY:Formation de professeurs de yoga 2020 - 2021
DESCRIPTION:Le thème de la formation de chaque week-end porte sur une région du corps ou un aspect psychologique de la personnalité. Les techniques de yoga qui le concerne seront étudiées telles que les postures asanas\, la respiration pranayama\, la relaxation\, la méditation\, la dimension énergétique. La philosophie du yoga ainsi que la culture indienne seront abordées et analysées à chaque session. \nVous voulez vous inscrire? découvrez notre formation de professeurs de yoga \nInfos pratiques : \n– samedi de 9h à 12h30 et de 13h30 à 17h\,\n– dimanche de 9h à 12h30 et de 13h30 à 17h\,\nL’hébergement et les repas sont libres pendant les week-ends. \nTarifs préférentiels pour l’inscription aux 6 week-ends de formation de l’année. \n  \nDates et thèmes des stages en  week-end  2020 – 2021 : \nDeux week-end de rattrapages : \n12 &  13  septembre 20 : coude \n10 &  11  octobre 20 :  poignet main \n2020 – 2021  \n21 & 22  : cervicales : lombaires et bassin \n09 & 10 janvier 2021 : dorsales et thorax \n13 & 14  février 2021 : cervicales et tâte \n13 & 14 mars 2021 : système respiratoire \n10 & 11 avril 2021 : abdomen et système digestif \n05 & 06 juin : système cardiovasculaire \nFiche d’inscription  à télécharger : \nFiche d’inscription 2020 -2021 \nConsignes sanitaires à télécharger : \nConsignes sanitaires \n 
URL:https://yoga-metz.com/event/formation-de-professeurs-de-yoga/
END:VEVENT
END:VCALENDAR